Package: microbiome Version: 1.26.0 Command: /Library/Frameworks/R.framework/Resources/bin/R CMD build --keep-empty-dirs --no-resave-data microbiome StartedAt: 2024-10-16 20:52:24 -0400 (Wed, 16 Oct 2024) EndedAt: 2024-10-16 20:54:02 -0400 (Wed, 16 Oct 2024) EllapsedTime: 97.3 seconds RetCode: 0 Status: OK PackageFile: microbiome_1.26.0.tar.gz PackageFileSize: 714 KiB