Package: microbiome Version: 1.26.0 Command: /Library/Frameworks/R.framework/Resources/bin/R CMD check --install=check:microbiome.install-out.txt --library=/Library/Frameworks/R.framework/Resources/library --no-vignettes --timings microbiome_1.26.0.tar.gz StartedAt: 2024-10-18 03:50:44 -0400 (Fri, 18 Oct 2024) EndedAt: 2024-10-18 03:54:32 -0400 (Fri, 18 Oct 2024) EllapsedTime: 228.1 seconds RetCode: 1 Status: ERROR CheckDir: microbiome.Rcheck Warnings: NA