Package: microSTASIS Version: 1.4.0 Command: E:\biocbuild\bbs-3.19-bioc\R\bin\R.exe CMD INSTALL microSTASIS StartedAt: 2024-10-16 16:41:01 -0400 (Wed, 16 Oct 2024) EndedAt: 2024-10-16 16:41:14 -0400 (Wed, 16 Oct 2024) EllapsedTime: 12.4 seconds RetCode: 0 Status: OK