Package: microSTASIS Version: 1.4.0 Command: /home/biocbuild/bbs-3.19-bioc/R/bin/R CMD build --keep-empty-dirs --no-resave-data microSTASIS StartedAt: 2024-10-16 19:28:18 -0400 (Wed, 16 Oct 2024) EndedAt: 2024-10-16 19:29:26 -0400 (Wed, 16 Oct 2024) EllapsedTime: 67.1 seconds RetCode: 0 Status: OK PackageFile: microSTASIS_1.4.0.tar.gz PackageFileSize: 1.199 MiB