Package: microSTASIS Version: 1.4.0 Command: /home/biocbuild/R/R-beta-2024-04-15_r86425/bin/R CMD build --keep-empty-dirs --no-resave-data microSTASIS StartedAt: 2024-05-09 01:38:41 -0000 (Thu, 09 May 2024) EndedAt: 2024-05-09 01:40:22 -0000 (Thu, 09 May 2024) EllapsedTime: 101.1 seconds RetCode: 0 Status: OK PackageFile: microSTASIS_1.4.0.tar.gz PackageFileSize: 833.5 KiB