Package: microSTASIS Version: 1.4.0 Command: /Library/Frameworks/R.framework/Resources/bin/R CMD INSTALL microSTASIS StartedAt: 2024-06-09 16:04:49 -0400 (Sun, 09 Jun 2024) EndedAt: 2024-06-09 16:04:56 -0400 (Sun, 09 Jun 2024) EllapsedTime: 6.4 seconds RetCode: 0 Status: OK