Package: microSTASIS Version: 1.4.0 Command: rm -rf microSTASIS.buildbin-libdir && mkdir microSTASIS.buildbin-libdir && /Users/biocbuild/BBS/utils/build-universal.sh microSTASIS_1.4.0.tar.gz /Library/Frameworks/R.framework/Resources/bin/R microSTASIS.buildbin-libdir StartedAt: 2024-10-18 19:26:29 -0400 (Fri, 18 Oct 2024) EndedAt: 2024-10-18 19:26:35 -0400 (Fri, 18 Oct 2024) EllapsedTime: 5.8 seconds RetCode: 0 Status: OK PackageFile: microSTASIS_1.4.0.tgz PackageFileSize: 1.487 MiB