Package: microRNA Version: 1.62.0 Command: E:\biocbuild\bbs-3.19-bioc\R\bin\R.exe CMD check --no-multiarch --install=check:microRNA.install-out.txt --library=E:\biocbuild\bbs-3.19-bioc\R\library --no-vignettes --timings microRNA_1.62.0.tar.gz StartedAt: 2024-10-17 03:20:46 -0400 (Thu, 17 Oct 2024) EndedAt: 2024-10-17 03:22:39 -0400 (Thu, 17 Oct 2024) EllapsedTime: 112.9 seconds RetCode: 0 Status: OK CheckDir: microRNA.Rcheck Warnings: 0