Package: microRNA Version: 1.62.0 Command: chmod a+r microRNA -R && E:\biocbuild\bbs-3.19-bioc\R\bin\R.exe CMD build --keep-empty-dirs --no-resave-data microRNA StartedAt: 2024-10-16 20:18:09 -0400 (Wed, 16 Oct 2024) EndedAt: 2024-10-16 20:18:17 -0400 (Wed, 16 Oct 2024) EllapsedTime: 7.4 seconds RetCode: 0 Status: OK PackageFile: microRNA_1.62.0.tar.gz PackageFileSize: 5.742 MiB