Package: microRNA Version: 1.62.0 Command: chmod a+r microRNA -R && F:\biocbuild\bbs-3.19-bioc\R\bin\R.exe CMD build --keep-empty-dirs --no-resave-data microRNA StartedAt: 2024-06-26 20:03:31 -0400 (Wed, 26 Jun 2024) EndedAt: 2024-06-26 20:03:36 -0400 (Wed, 26 Jun 2024) EllapsedTime: 5.1 seconds RetCode: 0 Status: OK PackageFile: microRNA_1.62.0.tar.gz PackageFileSize: 5.742 MiB