Package: microRNA Version: 1.62.0 Command: /home/biocbuild/bbs-3.19-bioc/R/bin/R CMD INSTALL microRNA StartedAt: 2024-10-16 16:00:18 -0400 (Wed, 16 Oct 2024) EndedAt: 2024-10-16 16:00:30 -0400 (Wed, 16 Oct 2024) EllapsedTime: 11.4 seconds RetCode: 0 Status: OK