Package: microRNA Version: 1.62.0 Command: /home/biocbuild/bbs-3.19-bioc/R/bin/R CMD check --install=check:microRNA.install-out.txt --library=/home/biocbuild/bbs-3.19-bioc/R/site-library --timings microRNA_1.62.0.tar.gz StartedAt: 2024-10-17 02:26:22 -0400 (Thu, 17 Oct 2024) EndedAt: 2024-10-17 02:27:43 -0400 (Thu, 17 Oct 2024) EllapsedTime: 81.2 seconds RetCode: 0 Status: OK CheckDir: microRNA.Rcheck Warnings: 0