Package: microRNA Version: 1.62.0 Command: /Library/Frameworks/R.framework/Resources/bin/R CMD check --install=check:microRNA.install-out.txt --library=/Library/Frameworks/R.framework/Resources/library --no-vignettes --timings microRNA_1.62.0.tar.gz StartedAt: 2024-06-09 21:30:26 -0400 (Sun, 09 Jun 2024) EndedAt: 2024-06-09 21:32:02 -0400 (Sun, 09 Jun 2024) EllapsedTime: 96.4 seconds RetCode: 0 Status: OK CheckDir: microRNA.Rcheck Warnings: 0