Package: microRNA Version: 1.62.0 Command: /Library/Frameworks/R.framework/Resources/bin/R CMD INSTALL microRNA StartedAt: 2024-06-09 15:21:53 -0400 (Sun, 09 Jun 2024) EndedAt: 2024-06-09 15:22:08 -0400 (Sun, 09 Jun 2024) EllapsedTime: 15.5 seconds RetCode: 0 Status: OK