Package: microRNA Version: 1.62.0 Command: /Library/Frameworks/R.framework/Resources/bin/R CMD INSTALL microRNA StartedAt: 2024-10-16 16:00:26 -0400 (Wed, 16 Oct 2024) EndedAt: 2024-10-16 16:00:41 -0400 (Wed, 16 Oct 2024) EllapsedTime: 14.5 seconds RetCode: 0 Status: OK