Package: miaSim Version: 1.10.0 Command: /Library/Frameworks/R.framework/Resources/bin/R CMD build --keep-empty-dirs --no-resave-data miaSim StartedAt: 2024-10-16 20:51:48 -0400 (Wed, 16 Oct 2024) EndedAt: 2024-10-16 20:54:55 -0400 (Wed, 16 Oct 2024) EllapsedTime: 186.4 seconds RetCode: 0 Status: OK PackageFile: miaSim_1.10.0.tar.gz PackageFileSize: 651.5 KiB