Package: mia Version: 1.12.0 Command: /Library/Frameworks/R.framework/Resources/bin/R CMD check --install=check:mia.install-out.txt --library=/Library/Frameworks/R.framework/Resources/library --no-vignettes --timings mia_1.12.0.tar.gz StartedAt: 2024-10-18 03:48:38 -0400 (Fri, 18 Oct 2024) EndedAt: 2024-10-18 04:11:30 -0400 (Fri, 18 Oct 2024) EllapsedTime: 1372.7 seconds RetCode: 0 Status: OK CheckDir: mia.Rcheck Warnings: 0