Package: mia Version: 1.12.0 Maintainer: Tuomas Borman MaintainerEmail: tuomas.v.borman at utu.fi git_url: https://git.bioconductor.org/packages/mia git_branch: RELEASE_3_19 git_last_commit: 38dad1b git_last_commit_date: 2024-04-30 11:32:24 -0400 (Tue, 30 Apr 2024)