Package: miRspongeR Version: 2.8.1 Command: E:\biocbuild\bbs-3.19-bioc\R\bin\R.exe CMD check --no-multiarch --install=check:miRspongeR.install-out.txt --library=E:\biocbuild\bbs-3.19-bioc\R\library --no-vignettes --timings miRspongeR_2.8.1.tar.gz StartedAt: 2024-10-17 03:26:58 -0400 (Thu, 17 Oct 2024) EndedAt: 2024-10-17 03:33:04 -0400 (Thu, 17 Oct 2024) EllapsedTime: 366.4 seconds RetCode: 0 Status: OK CheckDir: miRspongeR.Rcheck Warnings: 0