Package: miRspongeR Version: 2.8.1 Command: chmod a+r miRspongeR -R && E:\biocbuild\bbs-3.19-bioc\R\bin\R.exe CMD build --keep-empty-dirs --no-resave-data miRspongeR StartedAt: 2024-10-16 20:21:16 -0400 (Wed, 16 Oct 2024) EndedAt: 2024-10-16 20:27:52 -0400 (Wed, 16 Oct 2024) EllapsedTime: 395.5 seconds RetCode: 0 Status: OK PackageFile: miRspongeR_2.8.1.tar.gz PackageFileSize: 646.5 KiB