Package: miRspongeR Version: 2.8.0 Command: chmod a+r miRspongeR -R && F:\biocbuild\bbs-3.19-bioc\R\bin\R.exe CMD build --keep-empty-dirs --no-resave-data miRspongeR StartedAt: 2024-06-26 20:06:52 -0400 (Wed, 26 Jun 2024) EndedAt: 2024-06-26 20:13:43 -0400 (Wed, 26 Jun 2024) EllapsedTime: 411.1 seconds RetCode: 0 Status: OK PackageFile: miRspongeR_2.8.0.tar.gz PackageFileSize: 646.4 KiB