Package: miRspongeR Version: 2.8.1 Command: /Library/Frameworks/R.framework/Resources/bin/R CMD build --keep-empty-dirs --no-resave-data miRspongeR StartedAt: 2024-10-16 20:59:53 -0400 (Wed, 16 Oct 2024) EndedAt: 2024-10-16 21:16:09 -0400 (Wed, 16 Oct 2024) EllapsedTime: 976.2 seconds RetCode: 0 Status: OK PackageFile: miRspongeR_2.8.1.tar.gz PackageFileSize: 646.3 KiB