Package: miRspongeR Version: 2.8.1 Command: rm -rf miRspongeR.buildbin-libdir && mkdir miRspongeR.buildbin-libdir && /Users/biocbuild/BBS/utils/build-universal.sh miRspongeR_2.8.1.tar.gz /Library/Frameworks/R.framework/Resources/bin/R miRspongeR.buildbin-libdir StartedAt: 2024-10-17 16:36:53 -0400 (Thu, 17 Oct 2024) EndedAt: 2024-10-17 16:38:22 -0400 (Thu, 17 Oct 2024) EllapsedTime: 89.3 seconds RetCode: 0 Status: OK PackageFile: miRspongeR_2.8.1.tgz PackageFileSize: 795.4 KiB