Package: miRspongeR Version: 2.8.0 Command: rm -rf miRspongeR.buildbin-libdir && mkdir miRspongeR.buildbin-libdir && /Users/biocbuild/BBS/utils/build-universal.sh miRspongeR_2.8.0.tar.gz /Library/Frameworks/R.framework/Resources/bin/R miRspongeR.buildbin-libdir StartedAt: 2024-06-10 00:27:32 -0400 (Mon, 10 Jun 2024) EndedAt: 2024-06-10 00:28:23 -0400 (Mon, 10 Jun 2024) EllapsedTime: 50.8 seconds RetCode: 0 Status: OK PackageFile: miRspongeR_2.8.0.tgz PackageFileSize: 795 KiB