Package: miRspongeR Version: 2.8.0 Command: /home/biocbuild/R/R-beta-2024-04-15_r86425/bin/R CMD INSTALL miRspongeR StartedAt: 2024-05-08 21:09:07 -0000 (Wed, 08 May 2024) EndedAt: 2024-05-08 21:09:49 -0000 (Wed, 08 May 2024) EllapsedTime: 41.9 seconds RetCode: 0 Status: OK