Package: miRspongeR Version: 2.8.0 Command: /home/biocbuild/R/R-beta-2024-04-15_r86425/bin/R CMD build --keep-empty-dirs --no-resave-data miRspongeR StartedAt: 2024-05-09 01:43:02 -0000 (Thu, 09 May 2024) EndedAt: 2024-05-09 01:49:55 -0000 (Thu, 09 May 2024) EllapsedTime: 412.5 seconds RetCode: 0 Status: OK PackageFile: miRspongeR_2.8.0.tar.gz PackageFileSize: 671.8 KiB