Package: miRspongeR Version: 2.8.0 Command: /Library/Frameworks/R.framework/Resources/bin/R CMD build --keep-empty-dirs --no-resave-data miRspongeR StartedAt: 2024-06-10 00:41:14 -0400 (Mon, 10 Jun 2024) EndedAt: 2024-06-10 00:51:19 -0400 (Mon, 10 Jun 2024) EllapsedTime: 605.1 seconds RetCode: 0 Status: OK PackageFile: miRspongeR_2.8.0.tar.gz PackageFileSize: 646.3 KiB