Package: miRspongeR Version: 2.8.0 Command: rm -rf miRspongeR.buildbin-libdir && mkdir miRspongeR.buildbin-libdir && /Users/biocbuild/BBS/utils/build-universal.sh miRspongeR_2.8.0.tar.gz /Library/Frameworks/R.framework/Resources/bin/R miRspongeR.buildbin-libdir StartedAt: 2024-06-11 12:05:50 -0400 (Tue, 11 Jun 2024) EndedAt: 2024-06-11 12:07:10 -0400 (Tue, 11 Jun 2024) EllapsedTime: 80.0 seconds RetCode: 0 Status: OK PackageFile: miRspongeR_2.8.0.tgz PackageFileSize: 796 KiB