Package: miRspongeR Version: 2.8.1 Command: /Library/Frameworks/R.framework/Resources/bin/R CMD check --install=check:miRspongeR.install-out.txt --library=/Library/Frameworks/R.framework/Resources/library --no-vignettes --timings miRspongeR_2.8.1.tar.gz StartedAt: 2024-10-18 04:18:44 -0400 (Fri, 18 Oct 2024) EndedAt: 2024-10-18 04:24:56 -0400 (Fri, 18 Oct 2024) EllapsedTime: 371.9 seconds RetCode: 0 Status: OK CheckDir: miRspongeR.Rcheck Warnings: 0