Package: miRspongeR Version: 2.8.1 Command: /Library/Frameworks/R.framework/Resources/bin/R CMD build --keep-empty-dirs --no-resave-data miRspongeR StartedAt: 2024-10-17 04:33:13 -0400 (Thu, 17 Oct 2024) EndedAt: 2024-10-17 04:39:27 -0400 (Thu, 17 Oct 2024) EllapsedTime: 373.8 seconds RetCode: 0 Status: OK PackageFile: miRspongeR_2.8.1.tar.gz PackageFileSize: 646.4 KiB