Package: miRmine Version: 1.26.0 Command: rm -rf miRmine.buildbin-libdir && mkdir miRmine.buildbin-libdir && E:\biocbuild\bbs-3.19-bioc\R\bin\R.exe CMD INSTALL --build --library=miRmine.buildbin-libdir miRmine_1.26.0.tar.gz StartedAt: 2024-10-17 08:09:05 -0400 (Thu, 17 Oct 2024) EndedAt: 2024-10-17 08:09:28 -0400 (Thu, 17 Oct 2024) EllapsedTime: 23.0 seconds RetCode: 0 Status: OK PackageFile: miRmine_1.26.0.zip PackageFileSize: 2.523 MiB