Package: miRSM Version: 2.0.0 Command: /Library/Frameworks/R.framework/Resources/bin/R CMD INSTALL miRSM StartedAt: 2024-06-09 15:37:30 -0400 (Sun, 09 Jun 2024) EndedAt: 2024-06-09 15:38:39 -0400 (Sun, 09 Jun 2024) EllapsedTime: 68.6 seconds RetCode: 0 Status: OK