Package: miRSM Version: 2.0.0 Command: /home/biocbuild/R/R-beta-2024-04-15_r86425/bin/R CMD INSTALL miRSM StartedAt: 2024-05-08 20:57:40 -0000 (Wed, 08 May 2024) EndedAt: 2024-05-08 20:58:49 -0000 (Wed, 08 May 2024) EllapsedTime: 69.1 seconds RetCode: 0 Status: OK