Package: miRSM Version: 2.0.0 Command: /Library/Frameworks/R.framework/Resources/bin/R CMD INSTALL miRSM StartedAt: 2024-06-09 17:15:19 -0400 (Sun, 09 Jun 2024) EndedAt: 2024-06-09 17:16:45 -0400 (Sun, 09 Jun 2024) EllapsedTime: 86.5 seconds RetCode: 0 Status: OK