Package: miRSM Version: 2.0.0 Command: /Library/Frameworks/R.framework/Resources/bin/R CMD build --keep-empty-dirs --no-resave-data miRSM StartedAt: 2024-06-10 00:40:58 -0400 (Mon, 10 Jun 2024) EndedAt: 2024-06-10 00:43:51 -0400 (Mon, 10 Jun 2024) EllapsedTime: 173.2 seconds RetCode: 0 Status: OK PackageFile: miRSM_2.0.0.tar.gz PackageFileSize: 912 KiB