Package: miRSM Version: 2.0.2 Command: /Library/Frameworks/R.framework/Resources/bin/R CMD INSTALL miRSM StartedAt: 2024-10-16 18:22:13 -0400 (Wed, 16 Oct 2024) EndedAt: 2024-10-16 18:23:18 -0400 (Wed, 16 Oct 2024) EllapsedTime: 64.4 seconds RetCode: 0 Status: OK