Package: miRNAtap Version: 1.38.0 Command: E:\biocbuild\bbs-3.19-bioc\R\bin\R.exe CMD INSTALL miRNAtap StartedAt: 2024-10-16 16:17:51 -0400 (Wed, 16 Oct 2024) EndedAt: 2024-10-16 16:18:16 -0400 (Wed, 16 Oct 2024) EllapsedTime: 25.2 seconds RetCode: 0 Status: OK