Package: miRNAtap Version: 1.38.0 Command: E:\biocbuild\bbs-3.19-bioc\R\bin\R.exe CMD check --no-multiarch --install=check:miRNAtap.install-out.txt --library=E:\biocbuild\bbs-3.19-bioc\R\library --no-vignettes --timings miRNAtap_1.38.0.tar.gz StartedAt: 2024-10-17 03:26:25 -0400 (Thu, 17 Oct 2024) EndedAt: 2024-10-17 03:28:56 -0400 (Thu, 17 Oct 2024) EllapsedTime: 151.1 seconds RetCode: 0 Status: OK CheckDir: miRNAtap.Rcheck Warnings: 0