Package: miRNAtap Version: 1.38.0 Command: chmod a+r miRNAtap -R && E:\biocbuild\bbs-3.19-bioc\R\bin\R.exe CMD build --keep-empty-dirs --no-resave-data miRNAtap StartedAt: 2024-10-16 20:21:11 -0400 (Wed, 16 Oct 2024) EndedAt: 2024-10-16 20:22:03 -0400 (Wed, 16 Oct 2024) EllapsedTime: 52.8 seconds RetCode: 0 Status: OK PackageFile: miRNAtap_1.38.0.tar.gz PackageFileSize: 102 KiB