Package: miRNAtap Version: 1.38.0 Command: rm -rf miRNAtap.buildbin-libdir && mkdir miRNAtap.buildbin-libdir && E:\biocbuild\bbs-3.19-bioc\R\bin\R.exe CMD INSTALL --build --library=miRNAtap.buildbin-libdir miRNAtap_1.38.0.tar.gz StartedAt: 2024-10-17 08:09:13 -0400 (Thu, 17 Oct 2024) EndedAt: 2024-10-17 08:09:36 -0400 (Thu, 17 Oct 2024) EllapsedTime: 23.3 seconds RetCode: 0 Status: OK PackageFile: miRNAtap_1.38.0.zip PackageFileSize: 446.7 KiB