Package: miRNAtap Version: 1.38.0 Command: /home/biocbuild/R/R-beta-2024-04-15_r86425/bin/R CMD check --install=check:miRNAtap.install-out.txt --library=/home/biocbuild/R/R-beta-2024-04-15_r86425/site-library --no-vignettes --timings miRNAtap_1.38.0.tar.gz StartedAt: 2024-05-09 09:32:14 -0000 (Thu, 09 May 2024) EndedAt: 2024-05-09 09:34:50 -0000 (Thu, 09 May 2024) EllapsedTime: 155.3 seconds RetCode: 0 Status: OK CheckDir: miRNAtap.Rcheck Warnings: 0