Package: miRNAmeConverter Version: 1.32.0 Command: E:\biocbuild\bbs-3.19-bioc\R\bin\R.exe CMD check --no-multiarch --install=check:miRNAmeConverter.install-out.txt --library=E:\biocbuild\bbs-3.19-bioc\R\library --no-vignettes --timings miRNAmeConverter_1.32.0.tar.gz StartedAt: 2024-10-17 03:25:19 -0400 (Thu, 17 Oct 2024) EndedAt: 2024-10-17 03:27:35 -0400 (Thu, 17 Oct 2024) EllapsedTime: 136.1 seconds RetCode: 0 Status: WARNINGS CheckDir: miRNAmeConverter.Rcheck Warnings: 1