Package: miRNAmeConverter Version: 1.32.0 Command: rm -rf miRNAmeConverter.buildbin-libdir && mkdir miRNAmeConverter.buildbin-libdir && F:\biocbuild\bbs-3.19-bioc\R\bin\R.exe CMD INSTALL --build --library=miRNAmeConverter.buildbin-libdir miRNAmeConverter_1.32.0.tar.gz StartedAt: 2024-06-27 08:31:08 -0400 (Thu, 27 Jun 2024) EndedAt: 2024-06-27 08:31:31 -0400 (Thu, 27 Jun 2024) EllapsedTime: 22.7 seconds RetCode: 0 Status: OK PackageFile: miRNAmeConverter_1.32.0.zip PackageFileSize: 584.1 KiB