Package: miRNAmeConverter Version: 1.32.0 Command: /home/biocbuild/bbs-3.19-bioc/R/bin/R CMD build --keep-empty-dirs --no-resave-data miRNAmeConverter StartedAt: 2024-10-16 19:31:02 -0400 (Wed, 16 Oct 2024) EndedAt: 2024-10-16 19:31:03 -0400 (Wed, 16 Oct 2024) EllapsedTime: 1.0 seconds RetCode: 0 Status: OK PackageFile: miRNAmeConverter_1.32.0.tar.gz PackageFileSize: 313.7 KiB