Package: miRNAmeConverter Version: 1.32.0 Command: /Library/Frameworks/R.framework/Resources/bin/R CMD INSTALL miRNAmeConverter StartedAt: 2024-10-16 15:33:28 -0400 (Wed, 16 Oct 2024) EndedAt: 2024-10-16 15:34:07 -0400 (Wed, 16 Oct 2024) EllapsedTime: 39.6 seconds RetCode: 0 Status: OK