Package: miRNAmeConverter Version: 1.32.0 Command: /Library/Frameworks/R.framework/Resources/bin/R CMD check --install=check:miRNAmeConverter.install-out.txt --library=/Library/Frameworks/R.framework/Resources/library --no-vignettes --timings miRNAmeConverter_1.32.0.tar.gz StartedAt: 2024-10-17 08:50:11 -0400 (Thu, 17 Oct 2024) EndedAt: 2024-10-17 08:54:47 -0400 (Thu, 17 Oct 2024) EllapsedTime: 276.6 seconds RetCode: 0 Status: WARNINGS CheckDir: miRNAmeConverter.Rcheck Warnings: 1