Package: miRNAmeConverter Version: 1.32.0 Command: /Library/Frameworks/R.framework/Resources/bin/R CMD check --install=check:miRNAmeConverter.install-out.txt --library=/Library/Frameworks/R.framework/Resources/library --no-vignettes --timings miRNAmeConverter_1.32.0.tar.gz StartedAt: 2024-06-09 21:34:47 -0400 (Sun, 09 Jun 2024) EndedAt: 2024-06-09 21:36:42 -0400 (Sun, 09 Jun 2024) EllapsedTime: 115.0 seconds RetCode: 0 Status: WARNINGS CheckDir: miRNAmeConverter.Rcheck Warnings: 1