Package: miRNAmeConverter Version: 1.32.0 Command: /home/biocbuild/R/R-beta-2024-04-15_r86425/bin/R CMD check --install=check:miRNAmeConverter.install-out.txt --library=/home/biocbuild/R/R-beta-2024-04-15_r86425/site-library --no-vignettes --timings miRNAmeConverter_1.32.0.tar.gz StartedAt: 2024-05-09 09:31:27 -0000 (Thu, 09 May 2024) EndedAt: 2024-05-09 09:33:33 -0000 (Thu, 09 May 2024) EllapsedTime: 125.2 seconds RetCode: 0 Status: WARNINGS CheckDir: miRNAmeConverter.Rcheck Warnings: 1