Package: miRNAmeConverter Version: 1.32.0 Command: /Library/Frameworks/R.framework/Resources/bin/R CMD check --install=check:miRNAmeConverter.install-out.txt --library=/Library/Frameworks/R.framework/Resources/library --no-vignettes --timings miRNAmeConverter_1.32.0.tar.gz StartedAt: 2024-10-18 04:17:10 -0400 (Fri, 18 Oct 2024) EndedAt: 2024-10-18 04:19:13 -0400 (Fri, 18 Oct 2024) EllapsedTime: 122.7 seconds RetCode: 0 Status: WARNINGS CheckDir: miRNAmeConverter.Rcheck Warnings: 1