Package: miRNAmeConverter Version: 1.32.0 Command: rm -rf miRNAmeConverter.buildbin-libdir && mkdir miRNAmeConverter.buildbin-libdir && /Users/biocbuild/BBS/utils/build-universal.sh miRNAmeConverter_1.32.0.tar.gz /Library/Frameworks/R.framework/Resources/bin/R miRNAmeConverter.buildbin-libdir StartedAt: 2024-10-18 19:28:50 -0400 (Fri, 18 Oct 2024) EndedAt: 2024-10-18 19:29:11 -0400 (Fri, 18 Oct 2024) EllapsedTime: 21.6 seconds RetCode: 0 Status: OK PackageFile: miRNAmeConverter_1.32.0.tgz PackageFileSize: 578.5 KiB